BEGIN:VCALENDAR
VERSION:2.0
PRODID:-//RDPAD - ECPv6.15.12.2//NONSGML v1.0//EN
CALSCALE:GREGORIAN
METHOD:PUBLISH
X-WR-CALNAME:RDPAD
X-ORIGINAL-URL:https://www.rdpad.lv
X-WR-CALDESC:Events for RDPAD
REFRESH-INTERVAL;VALUE=DURATION:PT1H
X-Robots-Tag:noindex
X-PUBLISHED-TTL:PT1H
BEGIN:VTIMEZONE
TZID:Europe/Riga
BEGIN:DAYLIGHT
TZOFFSETFROM:+0200
TZOFFSETTO:+0300
TZNAME:EEST
DTSTART:20190331T010000
END:DAYLIGHT
BEGIN:STANDARD
TZOFFSETFROM:+0300
TZOFFSETTO:+0200
TZNAME:EET
DTSTART:20191027T010000
END:STANDARD
BEGIN:DAYLIGHT
TZOFFSETFROM:+0200
TZOFFSETTO:+0300
TZNAME:EEST
DTSTART:20200329T010000
END:DAYLIGHT
BEGIN:STANDARD
TZOFFSETFROM:+0300
TZOFFSETTO:+0200
TZNAME:EET
DTSTART:20201025T010000
END:STANDARD
BEGIN:DAYLIGHT
TZOFFSETFROM:+0200
TZOFFSETTO:+0300
TZNAME:EEST
DTSTART:20210328T010000
END:DAYLIGHT
BEGIN:STANDARD
TZOFFSETFROM:+0300
TZOFFSETTO:+0200
TZNAME:EET
DTSTART:20211031T010000
END:STANDARD
END:VTIMEZONE
BEGIN:VEVENT
DTSTART;TZID=Europe/Riga:20201230T083000
DTEND;TZID=Europe/Riga:20201230T150000
DTSTAMP:20260424T065800
CREATED:20201229T114051Z
LAST-MODIFIED:20201229T114259Z
UID:10000165-1609317000-1609340400@www.rdpad.lv
SUMMARY:Pilsētas attīstības departamenta darba laiks gada nogalē
DESCRIPTION:Trešdien\, 30. decembrī\, strādāsim no plkst. 8.30 līdz 15.00.\n31. decembrī un 1. janvārī būsim savās ģimenēs un mājās.\n\nUz saziņu 4. janvārī! \nVeselību un izdošanos jaunajā gadā vēlot\, \nRīgas domes Pilsētas attīstības departamenta komanda \n\n 
URL:https://www.rdpad.lv/notikums/pilsetas-attistibas-departamenta-darba-laiks-gada-nogale/
ATTACH;FMTTYPE=image/jpeg:https://www.rdpad.lv/wp-content/uploads/2020/12/Pulkstenis-galds-scaled.jpg
END:VEVENT
END:VCALENDAR