BEGIN:VCALENDAR
VERSION:2.0
PRODID:-//RDPAD - ECPv6.15.12.2//NONSGML v1.0//EN
CALSCALE:GREGORIAN
METHOD:PUBLISH
X-WR-CALNAME:RDPAD
X-ORIGINAL-URL:https://www.rdpad.lv
X-WR-CALDESC:Events for RDPAD
REFRESH-INTERVAL;VALUE=DURATION:PT1H
X-Robots-Tag:noindex
X-PUBLISHED-TTL:PT1H
BEGIN:VTIMEZONE
TZID:Europe/Riga
BEGIN:DAYLIGHT
TZOFFSETFROM:+0200
TZOFFSETTO:+0300
TZNAME:EEST
DTSTART:20200329T010000
END:DAYLIGHT
BEGIN:STANDARD
TZOFFSETFROM:+0300
TZOFFSETTO:+0200
TZNAME:EET
DTSTART:20201025T010000
END:STANDARD
BEGIN:DAYLIGHT
TZOFFSETFROM:+0200
TZOFFSETTO:+0300
TZNAME:EEST
DTSTART:20210328T010000
END:DAYLIGHT
BEGIN:STANDARD
TZOFFSETFROM:+0300
TZOFFSETTO:+0200
TZNAME:EET
DTSTART:20211031T010000
END:STANDARD
BEGIN:DAYLIGHT
TZOFFSETFROM:+0200
TZOFFSETTO:+0300
TZNAME:EEST
DTSTART:20220327T010000
END:DAYLIGHT
BEGIN:STANDARD
TZOFFSETFROM:+0300
TZOFFSETTO:+0200
TZNAME:EET
DTSTART:20221030T010000
END:STANDARD
END:VTIMEZONE
BEGIN:VEVENT
DTSTART;TZID=Europe/Riga:20210201T160000
DTEND;TZID=Europe/Riga:20210201T180000
DTSTAMP:20260424T052631
CREATED:20210201T065650Z
LAST-MODIFIED:20210201T065730Z
UID:10000084-1612195200-1612202400@www.rdpad.lv
SUMMARY:Vebinārs par Rīgas teritorijas plānojuma izstrādātās redakcijas pilnveidošanu
DESCRIPTION:Vairāk informācijas
URL:https://www.rdpad.lv/notikums/vebinars-par-rigas-teritorijas-planojuma-izstradatas-redakcijas-pilnveidosanu/
ATTACH;FMTTYPE=image/jpeg:https://www.rdpad.lv/wp-content/uploads/2021/01/shutterstock_1140981182-scaled.jpg
END:VEVENT
END:VCALENDAR