BEGIN:VCALENDAR
VERSION:2.0
PRODID:-//RDPAD - ECPv6.15.12.2//NONSGML v1.0//EN
CALSCALE:GREGORIAN
METHOD:PUBLISH
X-WR-CALNAME:RDPAD
X-ORIGINAL-URL:https://www.rdpad.lv
X-WR-CALDESC:Events for RDPAD
REFRESH-INTERVAL;VALUE=DURATION:PT1H
X-Robots-Tag:noindex
X-PUBLISHED-TTL:PT1H
BEGIN:VTIMEZONE
TZID:Europe/Riga
BEGIN:DAYLIGHT
TZOFFSETFROM:+0200
TZOFFSETTO:+0300
TZNAME:EEST
DTSTART:20200329T010000
END:DAYLIGHT
BEGIN:STANDARD
TZOFFSETFROM:+0300
TZOFFSETTO:+0200
TZNAME:EET
DTSTART:20201025T010000
END:STANDARD
BEGIN:DAYLIGHT
TZOFFSETFROM:+0200
TZOFFSETTO:+0300
TZNAME:EEST
DTSTART:20210328T010000
END:DAYLIGHT
BEGIN:STANDARD
TZOFFSETFROM:+0300
TZOFFSETTO:+0200
TZNAME:EET
DTSTART:20211031T010000
END:STANDARD
BEGIN:DAYLIGHT
TZOFFSETFROM:+0200
TZOFFSETTO:+0300
TZNAME:EEST
DTSTART:20220327T010000
END:DAYLIGHT
BEGIN:STANDARD
TZOFFSETFROM:+0300
TZOFFSETTO:+0200
TZNAME:EET
DTSTART:20221030T010000
END:STANDARD
END:VTIMEZONE
BEGIN:VEVENT
DTSTART;TZID=Europe/Riga:20210215T150000
DTEND;TZID=Europe/Riga:20210215T160000
DTSTAMP:20260424T052630
CREATED:20210215T065312Z
LAST-MODIFIED:20210215T065312Z
UID:10000119-1613401200-1613404800@www.rdpad.lv
SUMMARY:Pilsētas attīstības komitejas sēde
DESCRIPTION:
URL:https://www.rdpad.lv/notikums/pilsetas-attistibas-komitejas-sede/
END:VEVENT
BEGIN:VEVENT
DTSTART;TZID=Europe/Riga:20210215T160000
DTEND;TZID=Europe/Riga:20210215T180000
DTSTAMP:20260424T052630
CREATED:20210211T103334Z
LAST-MODIFIED:20210211T103334Z
UID:10000090-1613404800-1613412000@www.rdpad.lv
SUMMARY:Sarunu ciklā par Rīgas teritorijas plānojumu tikšanās ar Āgenskalna apkaimes biedrību un biedrību “Zasulaukam un Šampēterim”
DESCRIPTION:
URL:https://www.rdpad.lv/notikums/sarunu-cikla-par-rigas-teritorijas-planojumu-tiksanas-ar-agenskalna-apkaimes-biedribu-un-biedribu-zasulaukam-un-sampeterim/
END:VEVENT
END:VCALENDAR