BEGIN:VCALENDAR
VERSION:2.0
PRODID:-//RDPAD - ECPv6.15.12.2//NONSGML v1.0//EN
CALSCALE:GREGORIAN
METHOD:PUBLISH
X-WR-CALNAME:RDPAD
X-ORIGINAL-URL:https://www.rdpad.lv
X-WR-CALDESC:Events for RDPAD
REFRESH-INTERVAL;VALUE=DURATION:PT1H
X-Robots-Tag:noindex
X-PUBLISHED-TTL:PT1H
BEGIN:VTIMEZONE
TZID:Europe/Riga
BEGIN:DAYLIGHT
TZOFFSETFROM:+0200
TZOFFSETTO:+0300
TZNAME:EEST
DTSTART:20200329T010000
END:DAYLIGHT
BEGIN:STANDARD
TZOFFSETFROM:+0300
TZOFFSETTO:+0200
TZNAME:EET
DTSTART:20201025T010000
END:STANDARD
BEGIN:DAYLIGHT
TZOFFSETFROM:+0200
TZOFFSETTO:+0300
TZNAME:EEST
DTSTART:20210328T010000
END:DAYLIGHT
BEGIN:STANDARD
TZOFFSETFROM:+0300
TZOFFSETTO:+0200
TZNAME:EET
DTSTART:20211031T010000
END:STANDARD
BEGIN:DAYLIGHT
TZOFFSETFROM:+0200
TZOFFSETTO:+0300
TZNAME:EEST
DTSTART:20220327T010000
END:DAYLIGHT
BEGIN:STANDARD
TZOFFSETFROM:+0300
TZOFFSETTO:+0200
TZNAME:EET
DTSTART:20221030T010000
END:STANDARD
END:VTIMEZONE
BEGIN:VEVENT
DTSTART;TZID=Europe/Riga:20210216T100000
DTEND;TZID=Europe/Riga:20210216T120000
DTSTAMP:20260424T052631
CREATED:20210208T081653Z
LAST-MODIFIED:20210208T082925Z
UID:10000083-1613469600-1613476800@www.rdpad.lv
SUMMARY:Projektu vadības pārvaldes pārstāvji pasākumā “Spēļu fest” informēs par projektā  “Urb Cultural Planning” īstenoto Minecraft spēļošanas aktivitāti\, kā arī vadīs tematisko darba grupu.
DESCRIPTION:Projektu vadības pārvaldes pārstāvji pasākumā “Spēļu fest” informēs par projektā “Urb Cultural Planning” īstenoto Minecraft spēļošanas aktivitāti\, kā arī vadīs tematisko darba grupu.
URL:https://www.rdpad.lv/notikums/projektu-vadibas-parvaldes-parstavji-pasakuma-spelu-fest-informes-par-projekta-urb-cultural-planning-istenoto-minecraft-spelosanas-aktivitati-ka-ari-vadis-tematis/
END:VEVENT
BEGIN:VEVENT
DTSTART;TZID=Europe/Riga:20210216T100000
DTEND;TZID=Europe/Riga:20210216T120000
DTSTAMP:20260424T052631
CREATED:20210215T130321Z
LAST-MODIFIED:20210215T130321Z
UID:10000063-1613469600-1613476800@www.rdpad.lv
SUMMARY:Starptautiskā projekta „North Star Film Alliance” noslēdzošā partneru un konsultatīvās padomes sanāksme
DESCRIPTION:
URL:https://www.rdpad.lv/notikums/starptautiska-projekta-north-star-film-alliance-nosledzosa-partneru-un-konsultativas-padomes-sanaksme/
END:VEVENT
BEGIN:VEVENT
DTSTART;TZID=Europe/Riga:20210216T153000
DTEND;TZID=Europe/Riga:20210216T170000
DTSTAMP:20260424T052631
CREATED:20210211T103416Z
LAST-MODIFIED:20210215T065510Z
UID:10000161-1613489400-1613494800@www.rdpad.lv
SUMMARY:Sarunu ciklā par Rīgas teritorijas plānojumu tikšanās ar Good Mood Art (Torņakalns) un Torņakalna apkaimes biedrības pārstāvjiem
DESCRIPTION:
URL:https://www.rdpad.lv/notikums/sarunu-cikla-par-rigas-teritorijas-planojumu-tiksanas-ar-good-mood-art-tornakalns-agenskalna-apkaimes-biedribu-un-tornakalna-apkaimes-biedribas-parstavjiem/
END:VEVENT
END:VCALENDAR