BEGIN:VCALENDAR
VERSION:2.0
PRODID:-//RDPAD - ECPv6.15.12.2//NONSGML v1.0//EN
CALSCALE:GREGORIAN
METHOD:PUBLISH
X-WR-CALNAME:RDPAD
X-ORIGINAL-URL:https://www.rdpad.lv
X-WR-CALDESC:Events for RDPAD
REFRESH-INTERVAL;VALUE=DURATION:PT1H
X-Robots-Tag:noindex
X-PUBLISHED-TTL:PT1H
BEGIN:VTIMEZONE
TZID:Europe/Riga
BEGIN:DAYLIGHT
TZOFFSETFROM:+0200
TZOFFSETTO:+0300
TZNAME:EEST
DTSTART:20200329T010000
END:DAYLIGHT
BEGIN:STANDARD
TZOFFSETFROM:+0300
TZOFFSETTO:+0200
TZNAME:EET
DTSTART:20201025T010000
END:STANDARD
BEGIN:DAYLIGHT
TZOFFSETFROM:+0200
TZOFFSETTO:+0300
TZNAME:EEST
DTSTART:20210328T010000
END:DAYLIGHT
BEGIN:STANDARD
TZOFFSETFROM:+0300
TZOFFSETTO:+0200
TZNAME:EET
DTSTART:20211031T010000
END:STANDARD
BEGIN:DAYLIGHT
TZOFFSETFROM:+0200
TZOFFSETTO:+0300
TZNAME:EEST
DTSTART:20220327T010000
END:DAYLIGHT
BEGIN:STANDARD
TZOFFSETFROM:+0300
TZOFFSETTO:+0200
TZNAME:EET
DTSTART:20221030T010000
END:STANDARD
END:VTIMEZONE
BEGIN:VEVENT
DTSTART;TZID=Europe/Riga:20210218T083000
DTEND;TZID=Europe/Riga:20210218T190000
DTSTAMP:20260424T052630
CREATED:20210215T104112Z
LAST-MODIFIED:20210215T104112Z
UID:10000159-1613637000-1613674800@www.rdpad.lv
SUMMARY:Eiropas Lielpilsētu reģionu un teritoriju tīkla (METREX) konference
DESCRIPTION:Konferencē tiks diskutēts par Eiropas Savienības lauksaimniecības un pārtikas stratēģijām. Rīgas pilsētas pašvaldību pārstāvēs Rīgas domes Pilsētas attīstības departamenta Stratēģiskās pārvaldes vadītājs Guntars Ruskuls. METREX tīklā ietilpst  apmēram piecdesmit lielie pilsētu reģioni un tās mērķis ir zināšanu un pieredzes apmaiņa starp ekspertiem un politiķiem pilsētplānošanas jomā. 
URL:https://www.rdpad.lv/notikums/eiropas-lielpilsetu-regionu-un-teritoriju-tikla-metrex-konference-2/
END:VEVENT
END:VCALENDAR