BEGIN:VCALENDAR
VERSION:2.0
PRODID:-//RDPAD - ECPv6.15.12.2//NONSGML v1.0//EN
CALSCALE:GREGORIAN
METHOD:PUBLISH
X-WR-CALNAME:RDPAD
X-ORIGINAL-URL:https://www.rdpad.lv
X-WR-CALDESC:Events for RDPAD
REFRESH-INTERVAL;VALUE=DURATION:PT1H
X-Robots-Tag:noindex
X-PUBLISHED-TTL:PT1H
BEGIN:VTIMEZONE
TZID:Europe/Riga
BEGIN:DAYLIGHT
TZOFFSETFROM:+0200
TZOFFSETTO:+0300
TZNAME:EEST
DTSTART:20200329T010000
END:DAYLIGHT
BEGIN:STANDARD
TZOFFSETFROM:+0300
TZOFFSETTO:+0200
TZNAME:EET
DTSTART:20201025T010000
END:STANDARD
BEGIN:DAYLIGHT
TZOFFSETFROM:+0200
TZOFFSETTO:+0300
TZNAME:EEST
DTSTART:20210328T010000
END:DAYLIGHT
BEGIN:STANDARD
TZOFFSETFROM:+0300
TZOFFSETTO:+0200
TZNAME:EET
DTSTART:20211031T010000
END:STANDARD
BEGIN:DAYLIGHT
TZOFFSETFROM:+0200
TZOFFSETTO:+0300
TZNAME:EEST
DTSTART:20220327T010000
END:DAYLIGHT
BEGIN:STANDARD
TZOFFSETFROM:+0300
TZOFFSETTO:+0200
TZNAME:EET
DTSTART:20221030T010000
END:STANDARD
END:VTIMEZONE
BEGIN:VEVENT
DTSTART;TZID=Europe/Riga:20210219T090000
DTEND;TZID=Europe/Riga:20210219T103000
DTSTAMP:20260424T052631
CREATED:20210215T082104Z
LAST-MODIFIED:20210215T082104Z
UID:10000139-1613725200-1613730600@www.rdpad.lv
SUMMARY:Sarunu ciklā par Rīgas teritorijas plānojumu tikšanās ar Rīgas Rumbulas iedzīvotāju biedrību
DESCRIPTION:
URL:https://www.rdpad.lv/notikums/sarunu-cikla-par-rigas-teritorijas-planojumu-tiksanas-ar-rigas-rumbulas-iedzivotaju-biedribu/
END:VEVENT
BEGIN:VEVENT
DTSTART;TZID=Europe/Riga:20210219T090000
DTEND;TZID=Europe/Riga:20210219T123000
DTSTAMP:20260424T052631
CREATED:20210215T104215Z
LAST-MODIFIED:20210215T104215Z
UID:10000064-1613725200-1613737800@www.rdpad.lv
SUMMARY:Eiropas Lielpilsētu reģionu un teritoriju tīkla (METREX) konference
DESCRIPTION:Konferencē tiks diskutēts par Eiropas Savienības lauksaimniecības un pārtikas stratēģijām. Rīgas pilsētas pašvaldību pārstāvēs Rīgas domes Pilsētas attīstības departamenta Stratēģiskās pārvaldes vadītājs Guntars Ruskuls. METREX tīklā ietilpst  apmēram piecdesmit lielie pilsētu reģioni un tās mērķis ir zināšanu un pieredzes apmaiņa starp ekspertiem un politiķiem pilsētplānošanas jomā. 
URL:https://www.rdpad.lv/notikums/eiropas-lielpilsetu-regionu-un-teritoriju-tikla-metrex-konference-3/
END:VEVENT
END:VCALENDAR