BEGIN:VCALENDAR
VERSION:2.0
PRODID:-//RDPAD - ECPv6.15.12.2//NONSGML v1.0//EN
CALSCALE:GREGORIAN
METHOD:PUBLISH
X-WR-CALNAME:RDPAD
X-ORIGINAL-URL:https://www.rdpad.lv
X-WR-CALDESC:Events for RDPAD
REFRESH-INTERVAL;VALUE=DURATION:PT1H
X-Robots-Tag:noindex
X-PUBLISHED-TTL:PT1H
BEGIN:VTIMEZONE
TZID:Europe/Riga
BEGIN:DAYLIGHT
TZOFFSETFROM:+0200
TZOFFSETTO:+0300
TZNAME:EEST
DTSTART:20200329T010000
END:DAYLIGHT
BEGIN:STANDARD
TZOFFSETFROM:+0300
TZOFFSETTO:+0200
TZNAME:EET
DTSTART:20201025T010000
END:STANDARD
BEGIN:DAYLIGHT
TZOFFSETFROM:+0200
TZOFFSETTO:+0300
TZNAME:EEST
DTSTART:20210328T010000
END:DAYLIGHT
BEGIN:STANDARD
TZOFFSETFROM:+0300
TZOFFSETTO:+0200
TZNAME:EET
DTSTART:20211031T010000
END:STANDARD
BEGIN:DAYLIGHT
TZOFFSETFROM:+0200
TZOFFSETTO:+0300
TZNAME:EEST
DTSTART:20220327T010000
END:DAYLIGHT
BEGIN:STANDARD
TZOFFSETFROM:+0300
TZOFFSETTO:+0200
TZNAME:EET
DTSTART:20221030T010000
END:STANDARD
END:VTIMEZONE
BEGIN:VEVENT
DTSTART;TZID=Europe/Riga:20210224T090000
DTEND;TZID=Europe/Riga:20210224T100000
DTSTAMP:20260424T052631
CREATED:20210222T080848Z
LAST-MODIFIED:20210222T080848Z
UID:10000066-1614157200-1614160800@www.rdpad.lv
SUMMARY:Departamenta eksperti piedalās Ilgtspējīgas attīstības konsultatīvā koordinācijas padomes “Rail Baltica” projekta sniegto papildu iespēju realizēšanai Rīgā sanāksme Satiksmes ministrijā
DESCRIPTION:
URL:https://www.rdpad.lv/notikums/departamenta-eksperti-piedalas-ilgtspejigas-attistibas-konsultativa-koordinacijas-padomes-rail-baltica-projekta-sniegto-papildu-iespeju-realizesanai-riga-sanaksme-satiksmes-ministrij/
END:VEVENT
BEGIN:VEVENT
DTSTART;TZID=Europe/Riga:20210224T110000
DTEND;TZID=Europe/Riga:20210224T120000
DTSTAMP:20260424T052631
CREATED:20210222T080922Z
LAST-MODIFIED:20210222T080922Z
UID:10000065-1614164400-1614168000@www.rdpad.lv
SUMMARY:Direktore Ilze Purmale piedalās konferencē “Rail Baltica – jaunas iespējas reģionālajai satiksmei”
DESCRIPTION:
URL:https://www.rdpad.lv/notikums/direktore-ilze-purmale-piedalas-konference-rail-baltica-jaunas-iespejas-regionalajai-satiksmei/
END:VEVENT
BEGIN:VEVENT
DTSTART;TZID=Europe/Riga:20210224T140000
DTEND;TZID=Europe/Riga:20210224T150000
DTSTAMP:20260424T052631
CREATED:20210222T080812Z
LAST-MODIFIED:20210222T080812Z
UID:10000068-1614175200-1614178800@www.rdpad.lv
SUMMARY:Rīgas domes sēde
DESCRIPTION:
URL:https://www.rdpad.lv/notikums/rigas-domes-sede-2/
END:VEVENT
END:VCALENDAR