BEGIN:VCALENDAR
VERSION:2.0
PRODID:-//RDPAD - ECPv6.15.12.2//NONSGML v1.0//EN
CALSCALE:GREGORIAN
METHOD:PUBLISH
X-WR-CALNAME:RDPAD
X-ORIGINAL-URL:https://www.rdpad.lv
X-WR-CALDESC:Events for RDPAD
REFRESH-INTERVAL;VALUE=DURATION:PT1H
X-Robots-Tag:noindex
X-PUBLISHED-TTL:PT1H
BEGIN:VTIMEZONE
TZID:Europe/Riga
BEGIN:DAYLIGHT
TZOFFSETFROM:+0200
TZOFFSETTO:+0300
TZNAME:EEST
DTSTART:20200329T010000
END:DAYLIGHT
BEGIN:STANDARD
TZOFFSETFROM:+0300
TZOFFSETTO:+0200
TZNAME:EET
DTSTART:20201025T010000
END:STANDARD
BEGIN:DAYLIGHT
TZOFFSETFROM:+0200
TZOFFSETTO:+0300
TZNAME:EEST
DTSTART:20210328T010000
END:DAYLIGHT
BEGIN:STANDARD
TZOFFSETFROM:+0300
TZOFFSETTO:+0200
TZNAME:EET
DTSTART:20211031T010000
END:STANDARD
BEGIN:DAYLIGHT
TZOFFSETFROM:+0200
TZOFFSETTO:+0300
TZNAME:EEST
DTSTART:20220327T010000
END:DAYLIGHT
BEGIN:STANDARD
TZOFFSETFROM:+0300
TZOFFSETTO:+0200
TZNAME:EET
DTSTART:20221030T010000
END:STANDARD
END:VTIMEZONE
BEGIN:VEVENT
DTSTART;TZID=Europe/Riga:20210226T080000
DTEND;TZID=Europe/Riga:20210418T170000
DTSTAMP:20260424T052630
CREATED:20210225T121211Z
LAST-MODIFIED:20210413T073010Z
UID:10000029-1614326400-1618765200@www.rdpad.lv
SUMMARY:Publiskā apspriešana  lokāplānojuma Tumes ielā 25 redakcijai
DESCRIPTION:Vairāk informācijas 
URL:https://www.rdpad.lv/notikums/publiska-apspriesana-lokaplanojuma-tumes-iela-25-redakcijai/
END:VEVENT
BEGIN:VEVENT
DTSTART;TZID=Europe/Riga:20210226T090000
DTEND;TZID=Europe/Riga:20210226T110000
DTSTAMP:20260424T052630
CREATED:20210219T104538Z
LAST-MODIFIED:20210219T104538Z
UID:10000156-1614330000-1614337200@www.rdpad.lv
SUMMARY:Saruna par jaunā Rīgas teritorijas plānojuma pilnveidoto redakciju Buļļu apkaimē
DESCRIPTION:Rīgas domes Pilsētas attīstības departamenta speciālisti skaidros biedrības “Rītabuļļi” pārstāvjiem Rīgas teritorijas plānojuma pilnveidotās redakcijas risinājumus Buļļu apkaimē.
URL:https://www.rdpad.lv/notikums/saruna-par-jauna-rigas-teritorijas-planojuma-pilnveidoto-redakciju-bullu-apkaime/
END:VEVENT
END:VCALENDAR