BEGIN:VCALENDAR
VERSION:2.0
PRODID:-//RDPAD - ECPv6.15.12.2//NONSGML v1.0//EN
CALSCALE:GREGORIAN
METHOD:PUBLISH
X-WR-CALNAME:RDPAD
X-ORIGINAL-URL:https://www.rdpad.lv
X-WR-CALDESC:Events for RDPAD
REFRESH-INTERVAL;VALUE=DURATION:PT1H
X-Robots-Tag:noindex
X-PUBLISHED-TTL:PT1H
BEGIN:VTIMEZONE
TZID:Europe/Riga
BEGIN:DAYLIGHT
TZOFFSETFROM:+0200
TZOFFSETTO:+0300
TZNAME:EEST
DTSTART:20200329T010000
END:DAYLIGHT
BEGIN:STANDARD
TZOFFSETFROM:+0300
TZOFFSETTO:+0200
TZNAME:EET
DTSTART:20201025T010000
END:STANDARD
BEGIN:DAYLIGHT
TZOFFSETFROM:+0200
TZOFFSETTO:+0300
TZNAME:EEST
DTSTART:20210328T010000
END:DAYLIGHT
BEGIN:STANDARD
TZOFFSETFROM:+0300
TZOFFSETTO:+0200
TZNAME:EET
DTSTART:20211031T010000
END:STANDARD
BEGIN:DAYLIGHT
TZOFFSETFROM:+0200
TZOFFSETTO:+0300
TZNAME:EEST
DTSTART:20220327T010000
END:DAYLIGHT
BEGIN:STANDARD
TZOFFSETFROM:+0300
TZOFFSETTO:+0200
TZNAME:EET
DTSTART:20221030T010000
END:STANDARD
END:VTIMEZONE
BEGIN:VEVENT
DTSTART;TZID=Europe/Riga:20210301T080000
DTEND;TZID=Europe/Riga:20210427T170000
DTSTAMP:20260424T024152
CREATED:20210225T121410Z
LAST-MODIFIED:20210225T121410Z
UID:10000077-1614585600-1619542800@www.rdpad.lv
SUMMARY:Publiskā apspriešana lokālplānojuma pilnveidotajai redakcijai zemesgabaliem Krišjāņa Valdemāra ielā b/n\, Daugavgrīvas ielā 8 un 10\, Kalnciema ielā 3
DESCRIPTION:Vairāk informācijas
URL:https://www.rdpad.lv/notikums/publiska-apspriesana-lokalplanojuma-pilnveidotajai-redakcijai-zemesgabaliem-krisjana-valdemara-iela-b-n-daugavgrivas-iela-8-un-10-kalnciema-iela-3/
END:VEVENT
BEGIN:VEVENT
DTSTART;TZID=Europe/Riga:20210414T080000
DTEND;TZID=Europe/Riga:20210516T170000
DTSTAMP:20260424T024152
CREATED:20210413T085309Z
LAST-MODIFIED:20210413T085309Z
UID:10000129-1618387200-1621184400@www.rdpad.lv
SUMMARY:Publiskā apspriešana lokālplānojuma redakcijai teritorijai starp Kaivas ielu\, Augusta Deglava ielu\, Ēvalda Valtera ielu un Dzelzavas ielu
DESCRIPTION:
URL:https://www.rdpad.lv/notikums/publiska-apspriesana-lokalplanojuma-redakcijai-teritorijai-starp-kaivas-ielu-augusta-deglava-ielu-evalda-valtera-ielu-un-dzelzavas-ielu/
END:VEVENT
END:VCALENDAR