BEGIN:VCALENDAR
VERSION:2.0
PRODID:-//RDPAD - ECPv6.15.12.2//NONSGML v1.0//EN
CALSCALE:GREGORIAN
METHOD:PUBLISH
X-WR-CALNAME:RDPAD
X-ORIGINAL-URL:https://www.rdpad.lv
X-WR-CALDESC:Events for RDPAD
REFRESH-INTERVAL;VALUE=DURATION:PT1H
X-Robots-Tag:noindex
X-PUBLISHED-TTL:PT1H
BEGIN:VTIMEZONE
TZID:Europe/Riga
BEGIN:DAYLIGHT
TZOFFSETFROM:+0200
TZOFFSETTO:+0300
TZNAME:EEST
DTSTART:20200329T010000
END:DAYLIGHT
BEGIN:STANDARD
TZOFFSETFROM:+0300
TZOFFSETTO:+0200
TZNAME:EET
DTSTART:20201025T010000
END:STANDARD
BEGIN:DAYLIGHT
TZOFFSETFROM:+0200
TZOFFSETTO:+0300
TZNAME:EEST
DTSTART:20210328T010000
END:DAYLIGHT
BEGIN:STANDARD
TZOFFSETFROM:+0300
TZOFFSETTO:+0200
TZNAME:EET
DTSTART:20211031T010000
END:STANDARD
BEGIN:DAYLIGHT
TZOFFSETFROM:+0200
TZOFFSETTO:+0300
TZNAME:EEST
DTSTART:20220327T010000
END:DAYLIGHT
BEGIN:STANDARD
TZOFFSETFROM:+0300
TZOFFSETTO:+0200
TZNAME:EET
DTSTART:20221030T010000
END:STANDARD
END:VTIMEZONE
BEGIN:VEVENT
DTSTART;TZID=Europe/Riga:20210531T000000
DTEND;TZID=Europe/Riga:20210702T235900
DTSTAMP:20260423T233546
CREATED:20210521T111713Z
LAST-MODIFIED:20210527T090353Z
UID:10000020-1622419200-1625270340@www.rdpad.lv
SUMMARY:Publiskā apspriešana Eksportostas dienvidu daļas lokālplānojuma redakcijai un vides pārskatam
DESCRIPTION:
URL:https://www.rdpad.lv/notikums/publiska-apspriesana-eksportostas-dienvidu-dalas-lokalplanojuma-redakcijai-un-vides-parskatam/
END:VEVENT
BEGIN:VEVENT
DTSTART;TZID=Europe/Riga:20210616T140000
DTEND;TZID=Europe/Riga:20210616T160000
DTSTAMP:20260423T233546
CREATED:20210611T112706Z
LAST-MODIFIED:20210611T112706Z
UID:10000152-1623852000-1623859200@www.rdpad.lv
SUMMARY:Rīgas domes sēde
DESCRIPTION:
URL:https://www.rdpad.lv/notikums/rigas-domes-sede-9/
END:VEVENT
END:VCALENDAR