BEGIN:VCALENDAR
VERSION:2.0
PRODID:-//RDPAD - ECPv6.15.12.2//NONSGML v1.0//EN
CALSCALE:GREGORIAN
METHOD:PUBLISH
X-WR-CALNAME:RDPAD
X-ORIGINAL-URL:https://www.rdpad.lv
X-WR-CALDESC:Events for RDPAD
REFRESH-INTERVAL;VALUE=DURATION:PT1H
X-Robots-Tag:noindex
X-PUBLISHED-TTL:PT1H
BEGIN:VTIMEZONE
TZID:Europe/Riga
BEGIN:DAYLIGHT
TZOFFSETFROM:+0200
TZOFFSETTO:+0300
TZNAME:EEST
DTSTART:20200329T010000
END:DAYLIGHT
BEGIN:STANDARD
TZOFFSETFROM:+0300
TZOFFSETTO:+0200
TZNAME:EET
DTSTART:20201025T010000
END:STANDARD
BEGIN:DAYLIGHT
TZOFFSETFROM:+0200
TZOFFSETTO:+0300
TZNAME:EEST
DTSTART:20210328T010000
END:DAYLIGHT
BEGIN:STANDARD
TZOFFSETFROM:+0300
TZOFFSETTO:+0200
TZNAME:EET
DTSTART:20211031T010000
END:STANDARD
BEGIN:DAYLIGHT
TZOFFSETFROM:+0200
TZOFFSETTO:+0300
TZNAME:EEST
DTSTART:20220327T010000
END:DAYLIGHT
BEGIN:STANDARD
TZOFFSETFROM:+0300
TZOFFSETTO:+0200
TZNAME:EET
DTSTART:20221030T010000
END:STANDARD
END:VTIMEZONE
BEGIN:VEVENT
DTSTART;TZID=Europe/Riga:20210901T080000
DTEND;TZID=Europe/Riga:20210929T170000
DTSTAMP:20260423T190944
CREATED:20210902T183041Z
LAST-MODIFIED:20210902T183041Z
UID:10000030-1630483200-1632934800@www.rdpad.lv
SUMMARY:1.septembris- 29. septembris teritorijas Juglas ielā 95 lokālplānojuma publiskā apspriešana
DESCRIPTION:
URL:https://www.rdpad.lv/notikums/1-septembris-29-septembris-teritorijas-juglas-iela-95-lokalplanojuma-publiska-apspriesana/
END:VEVENT
BEGIN:VEVENT
DTSTART;TZID=Europe/Riga:20210903T080000
DTEND;TZID=Europe/Riga:20211004T170000
DTSTAMP:20260423T190944
CREATED:20210831T145901Z
LAST-MODIFIED:20210831T150043Z
UID:10000023-1630656000-1633366800@www.rdpad.lv
SUMMARY:Rīgas teritorijas plānojuma pilnveidotās redakcijas publiskā apspriešana un tā stratēģiskā ietekmes uz vidi novērtējuma precizētā vides pārskata sabiedriskā apspriešana
DESCRIPTION:Skatīt vairāk
URL:https://www.rdpad.lv/notikums/rigas-teritorijas-planojuma-pilnveidotas-redakcijas-publiska-apspriesana-un-ta-strategiska-ietekmes-uz-vidi-novertejuma-precizeta-vides-parskata-sabiedriska-apspriesana/
END:VEVENT
BEGIN:VEVENT
DTSTART;TZID=Europe/Riga:20210907T080000
DTEND;TZID=Europe/Riga:20210920T170000
DTSTAMP:20260423T190944
CREATED:20210909T061012Z
LAST-MODIFIED:20210909T061012Z
UID:10000157-1631001600-1632157200@www.rdpad.lv
SUMMARY:Publiskā apspriešana koku ciršanai Rīgā\, Balasta dambī 68a (kadastra nr. 0100 062 0035)
DESCRIPTION:Detalizēts paziņojums pieejams: https://www.rdpad.lv/pazinojums-par-publisko-apspriesanu-koku-cirsanai-riga-balasta-dambi-68a-kadastra-nr-0100-062-0035/
URL:https://www.rdpad.lv/notikums/publiska-apspriesana-koku-cirsanai-riga-balasta-dambi-68a-kadastra-nr-0100-062-0035/
END:VEVENT
BEGIN:VEVENT
DTSTART;TZID=Europe/Riga:20210909T080000
DTEND;TZID=Europe/Riga:20210917T170000
DTSTAMP:20260423T190944
CREATED:20210909T060917Z
LAST-MODIFIED:20210909T060917Z
UID:10000182-1631174400-1631898000@www.rdpad.lv
SUMMARY:Publiskā apspriešana koku ciršanai Rīgā\, Ēvalda Valtera ielā 44 (kadastra nr. 0100 092 2182)
DESCRIPTION:Detalizēts paziņojums pieejams: https://www.rdpad.lv/pazinojums-par-publisko-apspriesanu-koku-cirsanai-riga-evalda-valtera-iela-44-kadastra-nr-0100-092-2182/
URL:https://www.rdpad.lv/notikums/publiska-apspriesana-koku-cirsanai-riga-evalda-valtera-iela-44-kadastra-nr-0100-092-2182/
END:VEVENT
BEGIN:VEVENT
DTSTART;TZID=Europe/Riga:20210913T150000
DTEND;TZID=Europe/Riga:20210913T170000
DTSTAMP:20260423T190944
CREATED:20210909T142025Z
LAST-MODIFIED:20210909T142025Z
UID:10000184-1631545200-1631552400@www.rdpad.lv
SUMMARY:Pilsētas attīstības komitejas sēde
DESCRIPTION:
URL:https://www.rdpad.lv/notikums/pilsetas-attistibas-komitejas-sede-9/
END:VEVENT
BEGIN:VEVENT
DTSTART;TZID=Europe/Riga:20210913T160000
DTEND;TZID=Europe/Riga:20210913T180000
DTSTAMP:20260423T190944
CREATED:20210831T150223Z
LAST-MODIFIED:20210902T183712Z
UID:10000025-1631548800-1631556000@www.rdpad.lv
SUMMARY:Saruna ar Rīgas apkaimju organizāciju pārstāvjiem Rīgas teritorijas plānojuma pilnveidotās redakcijas publiskās apspriešanas un tā precizētā vides pārskata sabiedriskās apspriešanas ietvaros
DESCRIPTION:Sanāksme notiks tiešsaistē un tiks translēta arī www.rdpad.lv un Facebook kontā. Aicinām apkaimju organizāciju pārstāvjus līdz 10. septembra plkst. 17.00 reģistrēties dalībai sanāksmē šeit. \nSkatīt vairāk
URL:https://www.rdpad.lv/notikums/saruna-ar-rigas-apkaimju-organizaciju-parstavjiem-rigas-teritorijas-planojuma-pilnveidotas-redakcijas-publiskas-apspriesanas-un-ta-precizeta-vides-parskata-sabiedriskas-apspriesanas-ietvaros/
END:VEVENT
BEGIN:VEVENT
DTSTART;TZID=Europe/Riga:20210913T170000
DTEND;TZID=Europe/Riga:20210913T180000
DTSTAMP:20260423T190944
CREATED:20210902T183221Z
LAST-MODIFIED:20210902T183221Z
UID:10000032-1631552400-1631556000@www.rdpad.lv
SUMMARY:13. septembrī plkst.17.00 publiskās apspriešanas sanāksme teritorijas Juglas ielā 95 lokālplānojumam
DESCRIPTION:
URL:https://www.rdpad.lv/notikums/13-septembri-plkst-17-00-publiskas-apspriesanas-sanaksme-teritorijas-juglas-iela-95-lokalplanojumam/
END:VEVENT
END:VCALENDAR