BEGIN:VCALENDAR
VERSION:2.0
PRODID:-//RDPAD - ECPv6.15.12.2//NONSGML v1.0//EN
CALSCALE:GREGORIAN
METHOD:PUBLISH
X-WR-CALNAME:RDPAD
X-ORIGINAL-URL:https://www.rdpad.lv
X-WR-CALDESC:Events for RDPAD
REFRESH-INTERVAL;VALUE=DURATION:PT1H
X-Robots-Tag:noindex
X-PUBLISHED-TTL:PT1H
BEGIN:VTIMEZONE
TZID:Europe/Riga
BEGIN:DAYLIGHT
TZOFFSETFROM:+0200
TZOFFSETTO:+0300
TZNAME:EEST
DTSTART:20200329T010000
END:DAYLIGHT
BEGIN:STANDARD
TZOFFSETFROM:+0300
TZOFFSETTO:+0200
TZNAME:EET
DTSTART:20201025T010000
END:STANDARD
BEGIN:DAYLIGHT
TZOFFSETFROM:+0200
TZOFFSETTO:+0300
TZNAME:EEST
DTSTART:20210328T010000
END:DAYLIGHT
BEGIN:STANDARD
TZOFFSETFROM:+0300
TZOFFSETTO:+0200
TZNAME:EET
DTSTART:20211031T010000
END:STANDARD
BEGIN:DAYLIGHT
TZOFFSETFROM:+0200
TZOFFSETTO:+0300
TZNAME:EEST
DTSTART:20220327T010000
END:DAYLIGHT
BEGIN:STANDARD
TZOFFSETFROM:+0300
TZOFFSETTO:+0200
TZNAME:EET
DTSTART:20221030T010000
END:STANDARD
END:VTIMEZONE
BEGIN:VEVENT
DTSTART;TZID=Europe/Riga:20210901T080000
DTEND;TZID=Europe/Riga:20210929T170000
DTSTAMP:20260423T190944
CREATED:20210902T183041Z
LAST-MODIFIED:20210902T183041Z
UID:10000030-1630483200-1632934800@www.rdpad.lv
SUMMARY:1.septembris- 29. septembris teritorijas Juglas ielā 95 lokālplānojuma publiskā apspriešana
DESCRIPTION:
URL:https://www.rdpad.lv/notikums/1-septembris-29-septembris-teritorijas-juglas-iela-95-lokalplanojuma-publiska-apspriesana/
END:VEVENT
BEGIN:VEVENT
DTSTART;TZID=Europe/Riga:20210903T080000
DTEND;TZID=Europe/Riga:20211004T170000
DTSTAMP:20260423T190944
CREATED:20210831T145901Z
LAST-MODIFIED:20210831T150043Z
UID:10000023-1630656000-1633366800@www.rdpad.lv
SUMMARY:Rīgas teritorijas plānojuma pilnveidotās redakcijas publiskā apspriešana un tā stratēģiskā ietekmes uz vidi novērtējuma precizētā vides pārskata sabiedriskā apspriešana
DESCRIPTION:Skatīt vairāk
URL:https://www.rdpad.lv/notikums/rigas-teritorijas-planojuma-pilnveidotas-redakcijas-publiska-apspriesana-un-ta-strategiska-ietekmes-uz-vidi-novertejuma-precizeta-vides-parskata-sabiedriska-apspriesana/
END:VEVENT
BEGIN:VEVENT
DTSTART;TZID=Europe/Riga:20210921T080000
DTEND;TZID=Europe/Riga:20211004T170000
DTSTAMP:20260423T190944
CREATED:20210921T073400Z
LAST-MODIFIED:20211004T053413Z
UID:10000188-1632211200-1633366800@www.rdpad.lv
SUMMARY:Koku ciršanas publiskā apspriešana Rīgā\, Zaķusalas krastmalā
DESCRIPTION:Vairāk informācijas
URL:https://www.rdpad.lv/notikums/pazinojums-par-koku-cirsanas-publisko-apspriesanu-riga-zakusalas-krastmala-kadastra-apzimejumi-01000510164-01000510165-01000510161-01000510162/
END:VEVENT
BEGIN:VEVENT
DTSTART;VALUE=DATE:20210922
DTEND;VALUE=DATE:20210923
DTSTAMP:20260423T190944
CREATED:20210917T090622Z
LAST-MODIFIED:20210917T090622Z
UID:10000186-1632268800-1632355199@www.rdpad.lv
SUMMARY:Rīgas domes sēde
DESCRIPTION:
URL:https://www.rdpad.lv/notikums/rigas-domes-sede-14/
END:VEVENT
BEGIN:VEVENT
DTSTART;TZID=Europe/Riga:20210922T100000
DTEND;TZID=Europe/Riga:20210922T113000
DTSTAMP:20260423T190944
CREATED:20210907T102716Z
LAST-MODIFIED:20210910T104934Z
UID:10000175-1632304800-1632310200@www.rdpad.lv
SUMMARY:Publiskā diskusija “Uzņēmējdarbība un konkurētspēja”
DESCRIPTION:Sanāksme tiek organizēta Rīgas attīstības programmas 2021.-2027.gadam 1.redakcijas un vides pārskata projekta publiskās apspriešanas kontekstā. \nSanāksme notiks tiešsaistē MS TEAMS platformā\, un tai varēs sekot līdzi arī tiešraidē www.rdpad.lv\, www.riga.lv un Rīgas domes Pilsētas attīstības departamenta Facebook kontā.  \nReģistrēšanās šeit: ej.uz/AP2027Uznemejdarbiba
URL:https://www.rdpad.lv/notikums/publiska-diskusija-uznemejdarbiba-un-konkuretspeja/
END:VEVENT
END:VCALENDAR