BEGIN:VCALENDAR
VERSION:2.0
PRODID:-//RDPAD - ECPv6.15.12.2//NONSGML v1.0//EN
CALSCALE:GREGORIAN
METHOD:PUBLISH
X-WR-CALNAME:RDPAD
X-ORIGINAL-URL:https://www.rdpad.lv
X-WR-CALDESC:Events for RDPAD
REFRESH-INTERVAL;VALUE=DURATION:PT1H
X-Robots-Tag:noindex
X-PUBLISHED-TTL:PT1H
BEGIN:VTIMEZONE
TZID:Europe/Riga
BEGIN:DAYLIGHT
TZOFFSETFROM:+0200
TZOFFSETTO:+0300
TZNAME:EEST
DTSTART:20200329T010000
END:DAYLIGHT
BEGIN:STANDARD
TZOFFSETFROM:+0300
TZOFFSETTO:+0200
TZNAME:EET
DTSTART:20201025T010000
END:STANDARD
BEGIN:DAYLIGHT
TZOFFSETFROM:+0200
TZOFFSETTO:+0300
TZNAME:EEST
DTSTART:20210328T010000
END:DAYLIGHT
BEGIN:STANDARD
TZOFFSETFROM:+0300
TZOFFSETTO:+0200
TZNAME:EET
DTSTART:20211031T010000
END:STANDARD
BEGIN:DAYLIGHT
TZOFFSETFROM:+0200
TZOFFSETTO:+0300
TZNAME:EEST
DTSTART:20220327T010000
END:DAYLIGHT
BEGIN:STANDARD
TZOFFSETFROM:+0300
TZOFFSETTO:+0200
TZNAME:EET
DTSTART:20221030T010000
END:STANDARD
END:VTIMEZONE
BEGIN:VEVENT
DTSTART;TZID=Europe/Riga:20210903T080000
DTEND;TZID=Europe/Riga:20211004T170000
DTSTAMP:20260423T173917
CREATED:20210831T145901Z
LAST-MODIFIED:20210831T150043Z
UID:10000023-1630656000-1633366800@www.rdpad.lv
SUMMARY:Rīgas teritorijas plānojuma pilnveidotās redakcijas publiskā apspriešana un tā stratēģiskā ietekmes uz vidi novērtējuma precizētā vides pārskata sabiedriskā apspriešana
DESCRIPTION:Skatīt vairāk
URL:https://www.rdpad.lv/notikums/rigas-teritorijas-planojuma-pilnveidotas-redakcijas-publiska-apspriesana-un-ta-strategiska-ietekmes-uz-vidi-novertejuma-precizeta-vides-parskata-sabiedriska-apspriesana/
END:VEVENT
BEGIN:VEVENT
DTSTART;TZID=Europe/Riga:20210921T080000
DTEND;TZID=Europe/Riga:20211004T170000
DTSTAMP:20260423T173917
CREATED:20210921T073400Z
LAST-MODIFIED:20211004T053413Z
UID:10000188-1632211200-1633366800@www.rdpad.lv
SUMMARY:Koku ciršanas publiskā apspriešana Rīgā\, Zaķusalas krastmalā
DESCRIPTION:Vairāk informācijas
URL:https://www.rdpad.lv/notikums/pazinojums-par-koku-cirsanas-publisko-apspriesanu-riga-zakusalas-krastmala-kadastra-apzimejumi-01000510164-01000510165-01000510161-01000510162/
END:VEVENT
BEGIN:VEVENT
DTSTART;TZID=Europe/Riga:20210928T080000
DTEND;TZID=Europe/Riga:20211011T170000
DTSTAMP:20260423T173917
CREATED:20210928T124413Z
LAST-MODIFIED:20211004T053454Z
UID:10000044-1632816000-1633971600@www.rdpad.lv
SUMMARY:Publiskā apspriešana koku ciršanai Rīgā\, Balasta dambī 2 un Balasta dambja sarkanajās līnijās starp Zunda kanālu un Balasta dambi 2
DESCRIPTION:Vairāk informācijas šeit.
URL:https://www.rdpad.lv/notikums/pazinojums-par-publisko-apspriesanu-koku-cirsanai-riga-balasta-dambi-2-un-balasta-dambja-sarkanajas-linijas-starp-zunda-kanalu-un-balasta-dambi-2/
END:VEVENT
BEGIN:VEVENT
DTSTART;TZID=Europe/Riga:20211004T110000
DTEND;TZID=Europe/Riga:20211004T170000
DTSTAMP:20260423T173917
CREATED:20211001T170850Z
LAST-MODIFIED:20211001T170850Z
UID:10000048-1633345200-1633366800@www.rdpad.lv
SUMMARY:RĪGAS DOMES APSTĀDĪJUMU SAGLABĀŠANAS KOMISIJAS 04.10.2021. SĒDES NR. 40 DARBA KĀRTĪBA
DESCRIPTION:Vairāk informācijas šeit.
URL:https://www.rdpad.lv/notikums/rigas-domes-apstadijumu-saglabasanas-komisijas-04-10-2021-sedes-nr-40-darba-kartiba/
END:VEVENT
BEGIN:VEVENT
DTSTART;TZID=Europe/Riga:20211004T150000
DTEND;TZID=Europe/Riga:20211004T170000
DTSTAMP:20260423T173917
CREATED:20210930T143343Z
LAST-MODIFIED:20210930T143412Z
UID:10000046-1633359600-1633366800@www.rdpad.lv
SUMMARY:Pilsētas attīstības komiteja
DESCRIPTION:
URL:https://www.rdpad.lv/notikums/pilsetas-attistibas-komiteja/
END:VEVENT
END:VCALENDAR