BEGIN:VCALENDAR
VERSION:2.0
PRODID:-//RDPAD - ECPv6.15.12.2//NONSGML v1.0//EN
CALSCALE:GREGORIAN
METHOD:PUBLISH
X-WR-CALNAME:RDPAD
X-ORIGINAL-URL:https://www.rdpad.lv
X-WR-CALDESC:Events for RDPAD
REFRESH-INTERVAL;VALUE=DURATION:PT1H
X-Robots-Tag:noindex
X-PUBLISHED-TTL:PT1H
BEGIN:VTIMEZONE
TZID:Europe/Riga
BEGIN:DAYLIGHT
TZOFFSETFROM:+0200
TZOFFSETTO:+0300
TZNAME:EEST
DTSTART:20200329T010000
END:DAYLIGHT
BEGIN:STANDARD
TZOFFSETFROM:+0300
TZOFFSETTO:+0200
TZNAME:EET
DTSTART:20201025T010000
END:STANDARD
BEGIN:DAYLIGHT
TZOFFSETFROM:+0200
TZOFFSETTO:+0300
TZNAME:EEST
DTSTART:20210328T010000
END:DAYLIGHT
BEGIN:STANDARD
TZOFFSETFROM:+0300
TZOFFSETTO:+0200
TZNAME:EET
DTSTART:20211031T010000
END:STANDARD
BEGIN:DAYLIGHT
TZOFFSETFROM:+0200
TZOFFSETTO:+0300
TZNAME:EEST
DTSTART:20220327T010000
END:DAYLIGHT
BEGIN:STANDARD
TZOFFSETFROM:+0300
TZOFFSETTO:+0200
TZNAME:EET
DTSTART:20221030T010000
END:STANDARD
END:VTIMEZONE
BEGIN:VEVENT
DTSTART;TZID=Europe/Riga:20211102T080000
DTEND;TZID=Europe/Riga:20211115T170000
DTSTAMP:20260423T154024
CREATED:20211102T113300Z
LAST-MODIFIED:20211102T113301Z
UID:10000052-1635840000-1636995600@www.rdpad.lv
SUMMARY:Publiskā apspriešana koku ciršanai Rīgā\, pie Prāgas ielas 1
DESCRIPTION:Publiskās apspriešanas materiāli pieejami te.
URL:https://www.rdpad.lv/notikums/publiska-apspriesana-koku-cirsanai-riga-pie-pragas-ielas-1/
END:VEVENT
BEGIN:VEVENT
DTSTART;TZID=Europe/Riga:20211104T170000
DTEND;TZID=Europe/Riga:20211104T190000
DTSTAMP:20260423T154024
CREATED:20211101T073938Z
LAST-MODIFIED:20211101T073938Z
UID:10000199-1636045200-1636052400@www.rdpad.lv
SUMMARY:Sabiedrības informēšana par priekšizpētes risinājumiem Eiropas nozīmes dzelzceļa infrastruktūras “Rail Baltica” integrēšanai Rīgas pilsētas centra infrastruktūrā
DESCRIPTION:
URL:https://www.rdpad.lv/notikums/sabiedribas-informesana-par-prieksizpetes-risinajumiem-eiropas-nozimes-dzelzcela-infrastrukturas-rail-baltica-integresanai-rigas-pilsetas-centra-infrastruktura/
END:VEVENT
END:VCALENDAR