BEGIN:VCALENDAR
VERSION:2.0
PRODID:-//RDPAD - ECPv6.15.12.2//NONSGML v1.0//EN
CALSCALE:GREGORIAN
METHOD:PUBLISH
X-WR-CALNAME:RDPAD
X-ORIGINAL-URL:https://www.rdpad.lv
X-WR-CALDESC:Events for RDPAD
REFRESH-INTERVAL;VALUE=DURATION:PT1H
X-Robots-Tag:noindex
X-PUBLISHED-TTL:PT1H
BEGIN:VTIMEZONE
TZID:Europe/Riga
BEGIN:DAYLIGHT
TZOFFSETFROM:+0200
TZOFFSETTO:+0300
TZNAME:EEST
DTSTART:20200329T010000
END:DAYLIGHT
BEGIN:STANDARD
TZOFFSETFROM:+0300
TZOFFSETTO:+0200
TZNAME:EET
DTSTART:20201025T010000
END:STANDARD
BEGIN:DAYLIGHT
TZOFFSETFROM:+0200
TZOFFSETTO:+0300
TZNAME:EEST
DTSTART:20210328T010000
END:DAYLIGHT
BEGIN:STANDARD
TZOFFSETFROM:+0300
TZOFFSETTO:+0200
TZNAME:EET
DTSTART:20211031T010000
END:STANDARD
BEGIN:DAYLIGHT
TZOFFSETFROM:+0200
TZOFFSETTO:+0300
TZNAME:EEST
DTSTART:20220327T010000
END:DAYLIGHT
BEGIN:STANDARD
TZOFFSETFROM:+0300
TZOFFSETTO:+0200
TZNAME:EET
DTSTART:20221030T010000
END:STANDARD
END:VTIMEZONE
BEGIN:VEVENT
DTSTART;TZID=Europe/Riga:20211214T083000
DTEND;TZID=Europe/Riga:20211228T170000
DTSTAMP:20260423T174029
CREATED:20211214T143631Z
LAST-MODIFIED:20211214T143631Z
UID:10000177-1639470600-1640710800@www.rdpad.lv
SUMMARY:Koku ciršanas publiskā apspriešana Šarlotes ielā 3
DESCRIPTION:Paziņojums par koku ciršanas publisko apspriešanu te – https://www.rdpad.lv/pazinojums-par-publisko-apspriesanu-koku-cirsanai-riga-sarlotes-iela-3/
URL:https://www.rdpad.lv/notikums/koku-cirsanas-publiska-apspriesana-sarlotes-iela-3/
END:VEVENT
END:VCALENDAR