BEGIN:VCALENDAR
VERSION:2.0
PRODID:-//RDPAD - ECPv6.15.12.2//NONSGML v1.0//EN
CALSCALE:GREGORIAN
METHOD:PUBLISH
X-WR-CALNAME:RDPAD
X-ORIGINAL-URL:https://www.rdpad.lv
X-WR-CALDESC:Events for RDPAD
REFRESH-INTERVAL;VALUE=DURATION:PT1H
X-Robots-Tag:noindex
X-PUBLISHED-TTL:PT1H
BEGIN:VTIMEZONE
TZID:Europe/Riga
BEGIN:DAYLIGHT
TZOFFSETFROM:+0200
TZOFFSETTO:+0300
TZNAME:EEST
DTSTART:20210328T010000
END:DAYLIGHT
BEGIN:STANDARD
TZOFFSETFROM:+0300
TZOFFSETTO:+0200
TZNAME:EET
DTSTART:20211031T010000
END:STANDARD
BEGIN:DAYLIGHT
TZOFFSETFROM:+0200
TZOFFSETTO:+0300
TZNAME:EEST
DTSTART:20220327T010000
END:DAYLIGHT
BEGIN:STANDARD
TZOFFSETFROM:+0300
TZOFFSETTO:+0200
TZNAME:EET
DTSTART:20221030T010000
END:STANDARD
BEGIN:DAYLIGHT
TZOFFSETFROM:+0200
TZOFFSETTO:+0300
TZNAME:EEST
DTSTART:20230326T010000
END:DAYLIGHT
BEGIN:STANDARD
TZOFFSETFROM:+0300
TZOFFSETTO:+0200
TZNAME:EET
DTSTART:20231029T010000
END:STANDARD
END:VTIMEZONE
BEGIN:VEVENT
DTSTART;TZID=Europe/Riga:20220112T090000
DTEND;TZID=Europe/Riga:20220112T110000
DTSTAMP:20260423T190820
CREATED:20220111T071506Z
LAST-MODIFIED:20220111T071515Z
UID:10000071-1641978000-1641985200@www.rdpad.lv
SUMMARY:RD PAD Pilsētbūvniecības padomes sēde
DESCRIPTION:Vairāk informācijas šeit –  https://www.rdpad.lv/12-01-2022-pilsetbuvniecibas-padomes-sedes-darba-kartiba/
URL:https://www.rdpad.lv/notikums/rd-pad-pilsetbuvniecibas-padomes-sede-8/
END:VEVENT
BEGIN:VEVENT
DTSTART;TZID=Europe/Riga:20220112T140000
DTEND;TZID=Europe/Riga:20220112T160000
DTSTAMP:20260423T190820
CREATED:20220107T110648Z
LAST-MODIFIED:20220107T110648Z
UID:10000069-1641996000-1642003200@www.rdpad.lv
SUMMARY:Rīgas domes sēde
DESCRIPTION:
URL:https://www.rdpad.lv/notikums/rigas-domes-sede-21/
END:VEVENT
END:VCALENDAR