BEGIN:VCALENDAR
VERSION:2.0
PRODID:-//RDPAD - ECPv6.15.12.2//NONSGML v1.0//EN
CALSCALE:GREGORIAN
METHOD:PUBLISH
X-WR-CALNAME:RDPAD
X-ORIGINAL-URL:https://www.rdpad.lv
X-WR-CALDESC:Events for RDPAD
REFRESH-INTERVAL;VALUE=DURATION:PT1H
X-Robots-Tag:noindex
X-PUBLISHED-TTL:PT1H
BEGIN:VTIMEZONE
TZID:Europe/Riga
BEGIN:DAYLIGHT
TZOFFSETFROM:+0200
TZOFFSETTO:+0300
TZNAME:EEST
DTSTART:20210328T010000
END:DAYLIGHT
BEGIN:STANDARD
TZOFFSETFROM:+0300
TZOFFSETTO:+0200
TZNAME:EET
DTSTART:20211031T010000
END:STANDARD
BEGIN:DAYLIGHT
TZOFFSETFROM:+0200
TZOFFSETTO:+0300
TZNAME:EEST
DTSTART:20220327T010000
END:DAYLIGHT
BEGIN:STANDARD
TZOFFSETFROM:+0300
TZOFFSETTO:+0200
TZNAME:EET
DTSTART:20221030T010000
END:STANDARD
BEGIN:DAYLIGHT
TZOFFSETFROM:+0200
TZOFFSETTO:+0300
TZNAME:EEST
DTSTART:20230326T010000
END:DAYLIGHT
BEGIN:STANDARD
TZOFFSETFROM:+0300
TZOFFSETTO:+0200
TZNAME:EET
DTSTART:20231029T010000
END:STANDARD
END:VTIMEZONE
BEGIN:VEVENT
DTSTART;TZID=Europe/Riga:20220118T150000
DTEND;TZID=Europe/Riga:20220118T163000
DTSTAMP:20260423T190819
CREATED:20220114T081158Z
LAST-MODIFIED:20220114T081158Z
UID:10000074-1642518000-1642523400@www.rdpad.lv
SUMMARY:Publiska tiešsaistes diskusija par Rīgas velosatiksmes attīstības koncepcijas aktualizācijas jautājumiem
DESCRIPTION:Diskusijai varēs pieslēgties tikai reģistrēti dalībnieki. Lai saņemtu piekļuvi diskusijai\, piesakies līdz 17. janvārim: bit.ly/31P72Si. Plašāka informācija par diskusija izlasāma te: https://www.rdpad.lv/notiks-diskusija-par-rigas-velosatiksmes-attistibas-koncepcijas-aktualizacijas-jautajumiem/
URL:https://www.rdpad.lv/notikums/publiska-tiessaistes-diskusija-par-rigas-velosatiksmes-attistibas-koncepcijas-aktualizacijas-jautajumiem/
END:VEVENT
END:VCALENDAR