BEGIN:VCALENDAR
VERSION:2.0
PRODID:-//RDPAD - ECPv6.15.12.2//NONSGML v1.0//EN
CALSCALE:GREGORIAN
METHOD:PUBLISH
X-WR-CALNAME:RDPAD
X-ORIGINAL-URL:https://www.rdpad.lv
X-WR-CALDESC:Events for RDPAD
REFRESH-INTERVAL;VALUE=DURATION:PT1H
X-Robots-Tag:noindex
X-PUBLISHED-TTL:PT1H
BEGIN:VTIMEZONE
TZID:Europe/Riga
BEGIN:DAYLIGHT
TZOFFSETFROM:+0200
TZOFFSETTO:+0300
TZNAME:EEST
DTSTART:20210328T010000
END:DAYLIGHT
BEGIN:STANDARD
TZOFFSETFROM:+0300
TZOFFSETTO:+0200
TZNAME:EET
DTSTART:20211031T010000
END:STANDARD
BEGIN:DAYLIGHT
TZOFFSETFROM:+0200
TZOFFSETTO:+0300
TZNAME:EEST
DTSTART:20220327T010000
END:DAYLIGHT
BEGIN:STANDARD
TZOFFSETFROM:+0300
TZOFFSETTO:+0200
TZNAME:EET
DTSTART:20221030T010000
END:STANDARD
BEGIN:DAYLIGHT
TZOFFSETFROM:+0200
TZOFFSETTO:+0300
TZNAME:EEST
DTSTART:20230326T010000
END:DAYLIGHT
BEGIN:STANDARD
TZOFFSETFROM:+0300
TZOFFSETTO:+0200
TZNAME:EET
DTSTART:20231029T010000
END:STANDARD
END:VTIMEZONE
BEGIN:VEVENT
DTSTART;VALUE=DATE:20220222
DTEND;VALUE=DATE:20220309
DTSTAMP:20260423T203339
CREATED:20220225T103133Z
LAST-MODIFIED:20220225T103133Z
UID:10000222-1645488000-1646783999@www.rdpad.lv
SUMMARY:Koku ciršanas publiskā apspriešana Rīgā\, Jura Alunāna  ielā 6
DESCRIPTION:
URL:https://www.rdpad.lv/notikums/koku-cirsanas-publiska-apspriesana-riga-jura-alunana-iela-6/
END:VEVENT
BEGIN:VEVENT
DTSTART;TZID=Europe/Riga:20220301T080000
DTEND;TZID=Europe/Riga:20220314T170000
DTSTAMP:20260423T203339
CREATED:20220301T082745Z
LAST-MODIFIED:20220301T082840Z
UID:10000223-1646121600-1647277200@www.rdpad.lv
SUMMARY:Paziņojums par koku ciršanas publisko apspriešanu Rīgā\, Maskavas ielā 200
DESCRIPTION:Publiskā apspriešana par koku ciršanas ieceri Maskavas iela 200 un Maskavas ielas teritorijā un pie Maskavas ielas 200.
URL:https://www.rdpad.lv/notikums/43473/
END:VEVENT
BEGIN:VEVENT
DTSTART;TZID=Europe/Riga:20220302T090000
DTEND;TZID=Europe/Riga:20220302T100000
DTSTAMP:20260423T203339
CREATED:20220302T071149Z
LAST-MODIFIED:20220302T071149Z
UID:10000224-1646211600-1646215200@www.rdpad.lv
SUMMARY:RDPAD Pilsētbūvniecības padomes sēde
DESCRIPTION:
URL:https://www.rdpad.lv/notikums/rdpad-pilsetbuvniecibas-padomes-sede-3/
END:VEVENT
BEGIN:VEVENT
DTSTART;TZID=Europe/Riga:20220302T140000
DTEND;TZID=Europe/Riga:20220302T160000
DTSTAMP:20260423T203339
CREATED:20220225T100601Z
LAST-MODIFIED:20220225T100601Z
UID:10000220-1646229600-1646236800@www.rdpad.lv
SUMMARY:Rīgas domes sēde
DESCRIPTION:
URL:https://www.rdpad.lv/notikums/rigas-domes-sede-25/
END:VEVENT
END:VCALENDAR