BEGIN:VCALENDAR
VERSION:2.0
PRODID:-//RDPAD - ECPv6.15.12.2//NONSGML v1.0//EN
CALSCALE:GREGORIAN
METHOD:PUBLISH
X-WR-CALNAME:RDPAD
X-ORIGINAL-URL:https://www.rdpad.lv
X-WR-CALDESC:Events for RDPAD
REFRESH-INTERVAL;VALUE=DURATION:PT1H
X-Robots-Tag:noindex
X-PUBLISHED-TTL:PT1H
BEGIN:VTIMEZONE
TZID:Europe/Riga
BEGIN:DAYLIGHT
TZOFFSETFROM:+0200
TZOFFSETTO:+0300
TZNAME:EEST
DTSTART:20210328T010000
END:DAYLIGHT
BEGIN:STANDARD
TZOFFSETFROM:+0300
TZOFFSETTO:+0200
TZNAME:EET
DTSTART:20211031T010000
END:STANDARD
BEGIN:DAYLIGHT
TZOFFSETFROM:+0200
TZOFFSETTO:+0300
TZNAME:EEST
DTSTART:20220327T010000
END:DAYLIGHT
BEGIN:STANDARD
TZOFFSETFROM:+0300
TZOFFSETTO:+0200
TZNAME:EET
DTSTART:20221030T010000
END:STANDARD
BEGIN:DAYLIGHT
TZOFFSETFROM:+0200
TZOFFSETTO:+0300
TZNAME:EEST
DTSTART:20230326T010000
END:DAYLIGHT
BEGIN:STANDARD
TZOFFSETFROM:+0300
TZOFFSETTO:+0200
TZNAME:EET
DTSTART:20231029T010000
END:STANDARD
END:VTIMEZONE
BEGIN:VEVENT
DTSTART;TZID=Europe/Riga:20220322T080000
DTEND;TZID=Europe/Riga:20220404T170000
DTSTAMP:20260423T220159
CREATED:20220317T101711Z
LAST-MODIFIED:20220317T101711Z
UID:10000227-1647936000-1649091600@www.rdpad.lv
SUMMARY:Publiskā apspriešana koku ciršanas iecerei Zemitāna ielā 4\, Rīgā
DESCRIPTION:
URL:https://www.rdpad.lv/notikums/publiska-apspriesana-koku-cirsanas-iecerei-zemitana-iela-4-riga/
END:VEVENT
BEGIN:VEVENT
DTSTART;TZID=Europe/Riga:20220328T110000
DTEND;TZID=Europe/Riga:20220328T130000
DTSTAMP:20260423T220159
CREATED:20220325T130929Z
LAST-MODIFIED:20220325T130929Z
UID:10000085-1648465200-1648472400@www.rdpad.lv
SUMMARY:Rīgas domes Pilsētas attīstības komitejas sēde
DESCRIPTION:
URL:https://www.rdpad.lv/notikums/rigas-domes-pilsetas-attistibas-komitejas-sede-6/
END:VEVENT
END:VCALENDAR