BEGIN:VCALENDAR
VERSION:2.0
PRODID:-//RDPAD - ECPv6.15.12.2//NONSGML v1.0//EN
CALSCALE:GREGORIAN
METHOD:PUBLISH
X-WR-CALNAME:RDPAD
X-ORIGINAL-URL:https://www.rdpad.lv
X-WR-CALDESC:Events for RDPAD
REFRESH-INTERVAL;VALUE=DURATION:PT1H
X-Robots-Tag:noindex
X-PUBLISHED-TTL:PT1H
BEGIN:VTIMEZONE
TZID:Europe/Riga
BEGIN:DAYLIGHT
TZOFFSETFROM:+0200
TZOFFSETTO:+0300
TZNAME:EEST
DTSTART:20210328T010000
END:DAYLIGHT
BEGIN:STANDARD
TZOFFSETFROM:+0300
TZOFFSETTO:+0200
TZNAME:EET
DTSTART:20211031T010000
END:STANDARD
BEGIN:DAYLIGHT
TZOFFSETFROM:+0200
TZOFFSETTO:+0300
TZNAME:EEST
DTSTART:20220327T010000
END:DAYLIGHT
BEGIN:STANDARD
TZOFFSETFROM:+0300
TZOFFSETTO:+0200
TZNAME:EET
DTSTART:20221030T010000
END:STANDARD
BEGIN:DAYLIGHT
TZOFFSETFROM:+0200
TZOFFSETTO:+0300
TZNAME:EEST
DTSTART:20230326T010000
END:DAYLIGHT
BEGIN:STANDARD
TZOFFSETFROM:+0300
TZOFFSETTO:+0200
TZNAME:EET
DTSTART:20231029T010000
END:STANDARD
END:VTIMEZONE
BEGIN:VEVENT
DTSTART;TZID=Europe/Riga:20220405T080000
DTEND;TZID=Europe/Riga:20220420T170000
DTSTAMP:20260423T233551
CREATED:20220406T055158Z
LAST-MODIFIED:20220406T055158Z
UID:10000093-1649145600-1650474000@www.rdpad.lv
SUMMARY:Publiskā apspriešana koku ciršanas iecerei Rīga\, Krišjāņa Barona iela 94
DESCRIPTION:
URL:https://www.rdpad.lv/notikums/publiska-apspriesana-koku-cirsanas-iecerei-riga-krisjana-barona-iela-94/
END:VEVENT
BEGIN:VEVENT
DTSTART;TZID=Europe/Riga:20220411T080000
DTEND;TZID=Europe/Riga:20220511T170000
DTSTAMP:20260423T233551
CREATED:20220412T083011Z
LAST-MODIFIED:20220412T083011Z
UID:10000098-1649664000-1652288400@www.rdpad.lv
SUMMARY:Publiskā apspriešana teritorijas starp Krasta ielu\, Salu tiltu un Daugavu lokālplānojuma redakcijai
DESCRIPTION:
URL:https://www.rdpad.lv/notikums/publiska-apspriesana-teritorijas-starp-krasta-ielu-salu-tiltu-un-daugavu-lokalplanojuma-redakcijai/
END:VEVENT
BEGIN:VEVENT
DTSTART;TZID=Europe/Riga:20220411T150000
DTEND;TZID=Europe/Riga:20220411T160000
DTSTAMP:20260423T233551
CREATED:20220407T132142Z
LAST-MODIFIED:20220407T132142Z
UID:10000095-1649689200-1649692800@www.rdpad.lv
SUMMARY:Pilsētas attīstības komitejas sēde
DESCRIPTION:
URL:https://www.rdpad.lv/notikums/pilsetas-attistibas-komitejas-sede-17/
END:VEVENT
END:VCALENDAR