BEGIN:VCALENDAR
VERSION:2.0
PRODID:-//RDPAD - ECPv6.15.12.2//NONSGML v1.0//EN
CALSCALE:GREGORIAN
METHOD:PUBLISH
X-WR-CALNAME:RDPAD
X-ORIGINAL-URL:https://www.rdpad.lv
X-WR-CALDESC:Events for RDPAD
REFRESH-INTERVAL;VALUE=DURATION:PT1H
X-Robots-Tag:noindex
X-PUBLISHED-TTL:PT1H
BEGIN:VTIMEZONE
TZID:Europe/Riga
BEGIN:DAYLIGHT
TZOFFSETFROM:+0200
TZOFFSETTO:+0300
TZNAME:EEST
DTSTART:20200329T010000
END:DAYLIGHT
BEGIN:STANDARD
TZOFFSETFROM:+0300
TZOFFSETTO:+0200
TZNAME:EET
DTSTART:20201025T010000
END:STANDARD
BEGIN:DAYLIGHT
TZOFFSETFROM:+0200
TZOFFSETTO:+0300
TZNAME:EEST
DTSTART:20210328T010000
END:DAYLIGHT
BEGIN:STANDARD
TZOFFSETFROM:+0300
TZOFFSETTO:+0200
TZNAME:EET
DTSTART:20211031T010000
END:STANDARD
BEGIN:DAYLIGHT
TZOFFSETFROM:+0200
TZOFFSETTO:+0300
TZNAME:EEST
DTSTART:20220327T010000
END:DAYLIGHT
BEGIN:STANDARD
TZOFFSETFROM:+0300
TZOFFSETTO:+0200
TZNAME:EET
DTSTART:20221030T010000
END:STANDARD
END:VTIMEZONE
BEGIN:VEVENT
DTSTART;TZID=Europe/Riga:20210113T100000
DTEND;TZID=Europe/Riga:20210113T120000
DTSTAMP:20260424T052714
CREATED:20210113T074955Z
LAST-MODIFIED:20210113T080152Z
UID:10000112-1610532000-1610539200@www.rdpad.lv
SUMMARY:Rīgas domes Publiskās ārtelpas un pilsētvides komisija
DESCRIPTION:
URL:https://www.rdpad.lv/notikums/rigas-domes-publiskas-artelpas-un-pilsetvides-komisija/
END:VEVENT
BEGIN:VEVENT
DTSTART;TZID=Europe/Riga:20210115T103000
DTEND;TZID=Europe/Riga:20210115T130000
DTSTAMP:20260424T052714
CREATED:20210112T142030Z
LAST-MODIFIED:20210112T142030Z
UID:10000114-1610706600-1610715600@www.rdpad.lv
SUMMARY:Stratēģijas uzraudzības sistēmas koordinatoru seminārs
DESCRIPTION:
URL:https://www.rdpad.lv/notikums/strategijas-uzraudzibas-sistemas-koordinatoru-seminars/
END:VEVENT
BEGIN:VEVENT
DTSTART;TZID=Europe/Riga:20210115T130000
DTEND;TZID=Europe/Riga:20210115T150000
DTSTAMP:20260424T052714
CREATED:20210113T075038Z
LAST-MODIFIED:20210113T075038Z
UID:10000110-1610715600-1610722800@www.rdpad.lv
SUMMARY:Rīgas domes Apkaimju attīstības komisija
DESCRIPTION:
URL:https://www.rdpad.lv/notikums/rigas-domes-apkaimju-attistibas-komisija/
END:VEVENT
BEGIN:VEVENT
DTSTART;TZID=Europe/Riga:20210118T110000
DTEND;TZID=Europe/Riga:20210118T120000
DTSTAMP:20260424T052714
CREATED:20210118T075735Z
LAST-MODIFIED:20210118T075735Z
UID:10000060-1610967600-1610971200@www.rdpad.lv
SUMMARY:Rīgas apkaimju attīstības komisijas sēde
DESCRIPTION:
URL:https://www.rdpad.lv/notikums/rigas-apkaimju-attistibas-komisijas-sede/
END:VEVENT
BEGIN:VEVENT
DTSTART;TZID=Europe/Riga:20210125T130000
DTEND;TZID=Europe/Riga:20210125T140000
DTSTAMP:20260424T052714
CREATED:20210125T100738Z
LAST-MODIFIED:20210125T100738Z
UID:10000086-1611579600-1611583200@www.rdpad.lv
SUMMARY:Rīgas domes Mikromobilitātes komisija
DESCRIPTION:
URL:https://www.rdpad.lv/notikums/rigas-domes-mikromobilitates-komisija/
END:VEVENT
BEGIN:VEVENT
DTSTART;TZID=Europe/Riga:20210125T150000
DTEND;TZID=Europe/Riga:20210125T160000
DTSTAMP:20260424T052714
CREATED:20210125T082621Z
LAST-MODIFIED:20210125T082621Z
UID:10000088-1611586800-1611590400@www.rdpad.lv
SUMMARY:Rīgas domes Pilsētas attīstības komitejas sēde
DESCRIPTION:
URL:https://www.rdpad.lv/notikums/rigas-domes-pilsetas-attistibas-komitejas-sede/
END:VEVENT
END:VCALENDAR