BEGIN:VCALENDAR
VERSION:2.0
PRODID:-//RDPAD - ECPv6.15.12.2//NONSGML v1.0//EN
CALSCALE:GREGORIAN
METHOD:PUBLISH
X-WR-CALNAME:RDPAD
X-ORIGINAL-URL:https://www.rdpad.lv
X-WR-CALDESC:Events for RDPAD
REFRESH-INTERVAL;VALUE=DURATION:PT1H
X-Robots-Tag:noindex
X-PUBLISHED-TTL:PT1H
BEGIN:VTIMEZONE
TZID:Europe/Riga
BEGIN:DAYLIGHT
TZOFFSETFROM:+0200
TZOFFSETTO:+0300
TZNAME:EEST
DTSTART:20200329T010000
END:DAYLIGHT
BEGIN:STANDARD
TZOFFSETFROM:+0300
TZOFFSETTO:+0200
TZNAME:EET
DTSTART:20201025T010000
END:STANDARD
BEGIN:DAYLIGHT
TZOFFSETFROM:+0200
TZOFFSETTO:+0300
TZNAME:EEST
DTSTART:20210328T010000
END:DAYLIGHT
BEGIN:STANDARD
TZOFFSETFROM:+0300
TZOFFSETTO:+0200
TZNAME:EET
DTSTART:20211031T010000
END:STANDARD
BEGIN:DAYLIGHT
TZOFFSETFROM:+0200
TZOFFSETTO:+0300
TZNAME:EEST
DTSTART:20220327T010000
END:DAYLIGHT
BEGIN:STANDARD
TZOFFSETFROM:+0300
TZOFFSETTO:+0200
TZNAME:EET
DTSTART:20221030T010000
END:STANDARD
END:VTIMEZONE
BEGIN:VEVENT
DTSTART;TZID=Europe/Riga:20210414T080000
DTEND;TZID=Europe/Riga:20210516T170000
DTSTAMP:20260423T233701
CREATED:20210413T085309Z
LAST-MODIFIED:20210413T085309Z
UID:10000129-1618387200-1621184400@www.rdpad.lv
SUMMARY:Publiskā apspriešana lokālplānojuma redakcijai teritorijai starp Kaivas ielu\, Augusta Deglava ielu\, Ēvalda Valtera ielu un Dzelzavas ielu
DESCRIPTION:
URL:https://www.rdpad.lv/notikums/publiska-apspriesana-lokalplanojuma-redakcijai-teritorijai-starp-kaivas-ielu-augusta-deglava-ielu-evalda-valtera-ielu-un-dzelzavas-ielu/
END:VEVENT
BEGIN:VEVENT
DTSTART;TZID=Europe/Riga:20210505T150000
DTEND;TZID=Europe/Riga:20210505T170000
DTSTAMP:20260423T233701
CREATED:20210430T084404Z
LAST-MODIFIED:20210430T084404Z
UID:10000015-1620226800-1620234000@www.rdpad.lv
SUMMARY:Pilsētas attīstības komitejas sēde
DESCRIPTION:
URL:https://www.rdpad.lv/notikums/pilsetas-attistibas-komitejas-sede-6/
END:VEVENT
BEGIN:VEVENT
DTSTART;TZID=Europe/Riga:20210506T170000
DTEND;TZID=Europe/Riga:20210506T180000
DTSTAMP:20260423T233701
CREATED:20210426T103502Z
LAST-MODIFIED:20210426T103502Z
UID:10000013-1620320400-1620324000@www.rdpad.lv
SUMMARY:Sanāksme par zemesgabala Tumes ielā 25 lokālplānojuma publiskās apspriešanas laikā saņemtajiem priekšlikumiem
DESCRIPTION:
URL:https://www.rdpad.lv/notikums/sanaksme-par-zemesgabala-tumes-iela-25-lokalplanojuma-publiskas-apspriesanas-laika-sanemtajiem-priekslikumiem/
END:VEVENT
BEGIN:VEVENT
DTSTART;TZID=Europe/Riga:20210510T150000
DTEND;TZID=Europe/Riga:20210510T170000
DTSTAMP:20260423T233701
CREATED:20210426T103529Z
LAST-MODIFIED:20210426T103529Z
UID:10000014-1620658800-1620666000@www.rdpad.lv
SUMMARY:Rīgas domes Pilsētas attīstības komitejas sēde
DESCRIPTION:
URL:https://www.rdpad.lv/notikums/rigas-domes-pilsetas-attistibas-komitejas-sede-4/
END:VEVENT
BEGIN:VEVENT
DTSTART;TZID=Europe/Riga:20210512T150000
DTEND;TZID=Europe/Riga:20210512T170000
DTSTAMP:20260423T233701
CREATED:20210507T141038Z
LAST-MODIFIED:20210507T141038Z
UID:10000016-1620831600-1620838800@www.rdpad.lv
SUMMARY:Rīgas domes sēde
DESCRIPTION:
URL:https://www.rdpad.lv/notikums/rigas-domes-sede-6/
END:VEVENT
BEGIN:VEVENT
DTSTART;TZID=Europe/Riga:20210512T160000
DTEND;TZID=Europe/Riga:20210512T180000
DTSTAMP:20260423T233701
CREATED:20210508T055911Z
LAST-MODIFIED:20210508T055911Z
UID:10000017-1620835200-1620842400@www.rdpad.lv
SUMMARY:Vebinārs “Kino Rīgā. Rīgas kino pasaulē”
DESCRIPTION:
URL:https://www.rdpad.lv/notikums/vebinars-kino-riga-rigas-kino-pasaule/
END:VEVENT
BEGIN:VEVENT
DTSTART;TZID=Europe/Riga:20210524T150000
DTEND;TZID=Europe/Riga:20210524T170000
DTSTAMP:20260423T233701
CREATED:20210521T070224Z
LAST-MODIFIED:20210521T070224Z
UID:10000018-1621868400-1621875600@www.rdpad.lv
SUMMARY:Pilsētas attīstības komitejas sēde
DESCRIPTION:
URL:https://www.rdpad.lv/notikums/pilsetas-attistibas-komitejas-sede-7/
END:VEVENT
BEGIN:VEVENT
DTSTART;TZID=Europe/Riga:20210526T080000
DTEND;TZID=Europe/Riga:20210611T170000
DTSTAMP:20260423T233701
CREATED:20210526T091813Z
LAST-MODIFIED:20210526T091813Z
UID:10000121-1622016000-1623430800@www.rdpad.lv
SUMMARY:Minecraft Rīgas būvēšanas sacensības
DESCRIPTION:
URL:https://www.rdpad.lv/notikums/minecraft-rigas-buvesanas-sacensibas/
END:VEVENT
BEGIN:VEVENT
DTSTART;TZID=Europe/Riga:20210526T140000
DTEND;TZID=Europe/Riga:20210526T160000
DTSTAMP:20260423T233701
CREATED:20210521T111611Z
LAST-MODIFIED:20210521T111611Z
UID:10000019-1622037600-1622044800@www.rdpad.lv
SUMMARY:Rīgas domes sēde
DESCRIPTION:
URL:https://www.rdpad.lv/notikums/rigas-domes-sede-7/
END:VEVENT
BEGIN:VEVENT
DTSTART;TZID=Europe/Riga:20210526T160000
DTEND;TZID=Europe/Riga:20210526T170000
DTSTAMP:20260423T233701
CREATED:20210526T091932Z
LAST-MODIFIED:20210526T091932Z
UID:10000167-1622044800-1622048400@www.rdpad.lv
SUMMARY:Rīgas domes sēde
DESCRIPTION:
URL:https://www.rdpad.lv/notikums/rigas-domes-sede-8/
END:VEVENT
BEGIN:VEVENT
DTSTART;TZID=Europe/Riga:20210531T000000
DTEND;TZID=Europe/Riga:20210702T235900
DTSTAMP:20260423T233701
CREATED:20210521T111713Z
LAST-MODIFIED:20210527T090353Z
UID:10000020-1622419200-1625270340@www.rdpad.lv
SUMMARY:Publiskā apspriešana Eksportostas dienvidu daļas lokālplānojuma redakcijai un vides pārskatam
DESCRIPTION:
URL:https://www.rdpad.lv/notikums/publiska-apspriesana-eksportostas-dienvidu-dalas-lokalplanojuma-redakcijai-un-vides-parskatam/
END:VEVENT
END:VCALENDAR